BEGIN:VCALENDAR
VERSION:2.0
PRODID:-//wp-events-plugin.com//7.2.3.1//EN
TZID:Europe/Berlin
X-WR-TIMEZONE:Europe/Berlin
BEGIN:VEVENT
UID:70@sicona.lu
DTSTART;TZID=Europe/Luxembourg:20230513T090000
DTEND;TZID=Europe/Luxembourg:20230513T113000
DTSTAMP:20230419T162144Z
URL:https://sicona.lu/veranstaltungen/bongerten-bescher-baachen-an-hir-bew
 unner/
SUMMARY:Bongerten\, Bëscher\, Baachen an hir Bewunner
DESCRIPTION:Les habitants des vergers\, forêts et cours d'eau\nLieu: Parki
 ng rue de l'église L-7446 Lintgen\n\nInscriptions par e-mail: administr
 ation@sicona.lu ou par téléphone: 26 30 36 25\n\nCe projet est soutenu p
 ar le ministère de l'Environnement\, du Climat et du Développement durab
 le
CATEGORIES:Exkursionen,Nature for People
END:VEVENT
BEGIN:VTIMEZONE
TZID:Europe/Luxembourg
X-LIC-LOCATION:Europe/Luxembourg
BEGIN:DAYLIGHT
DTSTART:20230326T030000
TZOFFSETFROM:+0100
TZOFFSETTO:+0200
TZNAME:CEST
END:DAYLIGHT
END:VTIMEZONE
END:VCALENDAR