BEGIN:VCALENDAR
VERSION:2.0
PRODID:-//wp-events-plugin.com//7.2.3.1//EN
TZID:Europe/Berlin
X-WR-TIMEZONE:Europe/Berlin
BEGIN:VEVENT
UID:155@sicona.lu
DTSTART;TZID=Europe/Luxembourg:20250712T140000
DTEND;TZID=Europe/Luxembourg:20250712T170000
DTSTAMP:20250226T083521Z
URL:https://sicona.lu/veranstaltungen/hausapdikt-aus-der-natur/
SUMMARY:Hausapdikt aus der Natur
DESCRIPTION:La nature nous sert de pharmacie\nLieu: Salle Aula: rue d'Osper
 n\, Redange-sur-Attert - http://g-o.lu/3/9xFo\n\nInscriptions par e-mail:
  administration@sicona.lu ou par téléphone: 26 30 36 25\n\nCe projet es
 t soutenu par le ministère de l'Environnement\, du Climat et de la Biodiv
 ersité
CATEGORIES:Exkursionen,Nature for People
END:VEVENT
BEGIN:VTIMEZONE
TZID:Europe/Luxembourg
X-LIC-LOCATION:Europe/Luxembourg
BEGIN:DAYLIGHT
DTSTART:20250330T030000
TZOFFSETFROM:+0100
TZOFFSETTO:+0200
TZNAME:CEST
END:DAYLIGHT
END:VTIMEZONE
END:VCALENDAR